BEGIN:VCALENDAR
PRODID:-//Red Pacto Global Argentina //NONSGML Events //EN
VERSION:2.0
BEGIN:VEVENT
DTSTAMP:20230824T012830Z
STATUS:CONFIRMED
UID:15165
DTSTART:20230511T100000
DTEND:20230511T110000
LOCATION:Virtual
DESCRIPTION:
SUMMARY:CoP: SECCIÓN MEDIO AMBIENTE
TRANSP:OPAQUE
BEGIN:VALARM
ACTION:DISPLAY
DESCRIPTION:CoP: SECCIÓN MEDIO AMBIENTE
END:VALARM
END:VEVENT
END:VCALENDAR
