BEGIN:VCALENDAR
PRODID:-//Red Pacto Global Argentina //NONSGML Events //EN
VERSION:2.0
BEGIN:VEVENT
DTSTAMP:20230824T013400Z
STATUS:CONFIRMED
UID:15168
DTSTART:20230516T113000
DTEND:20230516T123000
LOCATION:Virtual
DESCRIPTION:
SUMMARY:CoP: SECCIÓN ESTÁNDARES LABORALES
TRANSP:OPAQUE
BEGIN:VALARM
ACTION:DISPLAY
DESCRIPTION:CoP: SECCIÓN ESTÁNDARES LABORALES
END:VALARM
END:VEVENT
END:VCALENDAR
