BEGIN:VCALENDAR
PRODID:-//Red Pacto Global Argentina //NONSGML Events //EN
VERSION:2.0
BEGIN:VEVENT
DTSTAMP:20230824T011254Z
STATUS:CONFIRMED
UID:15203
DTSTART:20230508T143000
DTEND:20230508T160000
LOCATION:Virtual
DESCRIPTION:Nos encontraremos a festejar los 19 años de la Red y compartiremos como las empresas adheridas al Pacto Global en Argentina están contribuyendo a los Objetivos de Desarrollo Sostenible. 
SUMMARY:Evento 19° Aniversario de Pacto Global en Argentina: La contribución de las empresas a los ODS en Argentina
TRANSP:OPAQUE
BEGIN:VALARM
ACTION:DISPLAY
DESCRIPTION:Evento 19° Aniversario de Pacto Global en Argentina: La contribución de las empresas a los ODS en Argentina
END:VALARM
END:VEVENT
END:VCALENDAR
