BEGIN:VCALENDAR
PRODID:-//Red Pacto Global Argentina //NONSGML Events //EN
VERSION:2.0
BEGIN:VEVENT
DTSTAMP:20230824T013306Z
STATUS:CONFIRMED
UID:15293
DTSTART:20230530T100000
DTEND:20230530T110000
LOCATION:Virtual
DESCRIPTION:Sumate a conocer el equipo y nuestra agenda de trabajo 2023.<br />
Descubrí todo lo que podemos hacer juntos por la sostenibilidad este año.
SUMMARY:3 webinar: Conociendo Pacto
TRANSP:OPAQUE
BEGIN:VALARM
ACTION:DISPLAY
DESCRIPTION:3 webinar: Conociendo Pacto
END:VALARM
END:VEVENT
END:VCALENDAR
