BEGIN:VCALENDAR
PRODID:-//Red Pacto Global Argentina //NONSGML Events //EN
VERSION:2.0
BEGIN:VEVENT
DTSTAMP:20230824T012911Z
STATUS:CONFIRMED
UID:15304
DTSTART:20230518T110000
DTEND:20230518T120000
LOCATION:Virtual
DESCRIPTION:DESCARBONIZACIÓN, CAMBIO CLIMÁTICO E INDUSTRIA 4.0<br />
Es un tema clave para el que queremos generar un espacio de dialogo y poder visibilizar la necesidad de contar en el transporte con un modelo de traslado bajo consumo de carbono que priorice el elevar la calidad de vida urbana y el bienestar colectivo favoreciendo la convivencia ciudadana.
SUMMARY:Ciclo de webinarios: Transporte y Movilidad Sostenible
TRANSP:OPAQUE
BEGIN:VALARM
ACTION:DISPLAY
DESCRIPTION:Ciclo de webinarios: Transporte y Movilidad Sostenible
END:VALARM
END:VEVENT
END:VCALENDAR
