BEGIN:VCALENDAR
PRODID:-//Red Pacto Global Argentina //NONSGML Events //EN
VERSION:2.0
BEGIN:VEVENT
DTSTAMP:20230824T011304Z
STATUS:CONFIRMED
UID:15336
DTSTART:20230614T113000
DTEND:20230614T123000
LOCATION:Virtual
DESCRIPTION:
SUMMARY:CoP: 2° Sesión abierta de preguntas y respuestas
TRANSP:OPAQUE
BEGIN:VALARM
ACTION:DISPLAY
DESCRIPTION:CoP: 2° Sesión abierta de preguntas y respuestas
END:VALARM
END:VEVENT
END:VCALENDAR
