BEGIN:VCALENDAR
PRODID:-//Red Pacto Global Argentina //NONSGML Events //EN
VERSION:2.0
BEGIN:VEVENT
DTSTAMP:20230824T013057Z
STATUS:CONFIRMED
UID:15353
DTSTART:20230601T113000
DTEND:20230601T123000
LOCATION:Virtual
DESCRIPTION:
SUMMARY:Sesión informativa Lanzamiento Acelerador de Equidad de Género
TRANSP:OPAQUE
BEGIN:VALARM
ACTION:DISPLAY
DESCRIPTION:Sesión informativa Lanzamiento Acelerador de Equidad de Género
END:VALARM
END:VEVENT
END:VCALENDAR
