BEGIN:VCALENDAR
PRODID:-//Red Pacto Global Argentina //NONSGML Events //EN
VERSION:2.0
BEGIN:VEVENT
DTSTAMP:20230824T013237Z
STATUS:CONFIRMED
UID:15357
DTSTART:20230601T110000
DTEND:20230601T120000
LOCATION:
DESCRIPTION:SINDICATOS Y DEBIDA DILIGENCIA ¿CÓMO INVOLUCRARSE?<br />
EXPERIENCIAS DE ARGENTINA Y ESPAÑA<br />
<br />
Cómo las empresas y los sindicatos gestionan los procesos de debida diligencia para garantizar la representación de las necesidades de los trabajadores.
SUMMARY:Ciclo Webinarios Empresa y DDHH
TRANSP:OPAQUE
BEGIN:VALARM
ACTION:DISPLAY
DESCRIPTION:Ciclo Webinarios Empresa y DDHH
END:VALARM
END:VEVENT
END:VCALENDAR
