BEGIN:VCALENDAR
PRODID:-//Red Pacto Global Argentina //NONSGML Events //EN
VERSION:2.0
BEGIN:VEVENT
DTSTAMP:20230824T013006Z
STATUS:CONFIRMED
UID:15439
DTSTART:20230616T110000
DTEND:20230616T120000
LOCATION:Virtual
DESCRIPTION:En un mundo cada vez más interconectado, la importancia de garantizar la sostenibilidad y la responsabilidad en las cadenas de valor ha cobrado gran relevancia. Las empresas se enfrentan al desafío de evaluar y mitigar los riesgos asociados a sus proveedores y socios comerciales, y es aquí donde entra en juego el proceso de debido diligencia. Con el fin de abordar este tema crucial, los invitamos a participar del webinar \"Aprendizajes en el Proceso de Debido Diligencia en Cadenas de Valor\", donde expertas en la materia compartirán sus conocimientos y experiencias sobre cómo llevar a cabo este proceso de manera efectiva.<br />
<br />

SUMMARY:Aprendizajes en el Proceso de Debido Diligencia en Cadenas de Valor
TRANSP:OPAQUE
BEGIN:VALARM
ACTION:DISPLAY
DESCRIPTION:Aprendizajes en el Proceso de Debido Diligencia en Cadenas de Valor
END:VALARM
END:VEVENT
END:VCALENDAR
