BEGIN:VCALENDAR
PRODID:-//Red Pacto Global Argentina //NONSGML Events //EN
VERSION:2.0
BEGIN:VEVENT
DTSTAMP:20230824T011253Z
STATUS:CONFIRMED
UID:15444
DTSTART:20230622T100000
DTEND:20230622T130000
LOCATION:Presencial
DESCRIPTION:El taller tiene como objetivo acompañar a las empresas en el proceso de respuesta a la nueva Comunicación de Progreso, para ello se brindarán orientaciones y recomendaciones prácticas en torno a las preguntas más complejas. Así también se compartirá información sobre los recursos con los que cuenta Pacto Global para avanzar en torno a los desafíos que la nueva CoP les propone en torno a la gestión de la sostenibilidad.
SUMMARY:Taller presencial de elaboración de la Comunicación de Progreso al Pacto Global
TRANSP:OPAQUE
BEGIN:VALARM
ACTION:DISPLAY
DESCRIPTION:Taller presencial de elaboración de la Comunicación de Progreso al Pacto Global
END:VALARM
END:VEVENT
END:VCALENDAR
