BEGIN:VCALENDAR
PRODID:-//Red Pacto Global Argentina //NONSGML Events //EN
VERSION:2.0
BEGIN:VEVENT
DTSTAMP:20230824T012851Z
STATUS:CONFIRMED
UID:15447
DTSTART:20230629T113000
DTEND:20230629T123000
LOCATION:Virtual
DESCRIPTION:Durante el encuentro virtual se brindarán orientaciones y recomendaciones prácticas sobre las preguntas más complejas que han identificado las empresas. Asimismo se resaltará el valor de la CoP como una herramienta de autoevaluación y de gestión al interior de las organizaciones.  Contaremos con un espacio  para responder las consultas de las empresas.<br />

SUMMARY:CoP: ¿Cómo responder el cuestionario?
TRANSP:OPAQUE
BEGIN:VALARM
ACTION:DISPLAY
DESCRIPTION:CoP: ¿Cómo responder el cuestionario?
END:VALARM
END:VEVENT
END:VCALENDAR
