BEGIN:VCALENDAR
PRODID:-//Red Pacto Global Argentina //NONSGML Events //EN
VERSION:2.0
BEGIN:VEVENT
DTSTAMP:20230824T012407Z
STATUS:CONFIRMED
UID:15588
DTSTART:20230810T093000
DTEND:20230810T113000
LOCATION:Virtual
DESCRIPTION:Encuentro 1 <br />
Definición de los limites planetarios para comprender el estado en que hoy se encuentra el Planeta, la necesidad de trabajar con datos científicos y la manera en que las instituciones pueden dirigirse hacia una economía circular a partir del conocimiento de los limites planetarios y de cómo funciona la naturaleza y el vínculo con los ODS planteados en la Agenda 2030. Se incorporarán las necesidades sociales a través de la economía del DONUT postulada por Kate Raworth.<br />

SUMMARY:Grupo de trabajo: Economía Circular y ODS
TRANSP:OPAQUE
BEGIN:VALARM
ACTION:DISPLAY
DESCRIPTION:Grupo de trabajo: Economía Circular y ODS
END:VALARM
END:VEVENT
END:VCALENDAR
