BEGIN:VCALENDAR
PRODID:-//Red Pacto Global Argentina //NONSGML Events //EN
VERSION:2.0
BEGIN:VEVENT
DTSTAMP:20230824T012414Z
STATUS:CONFIRMED
UID:15590
DTSTART:20230824T093000
DTEND:20230824T113000
LOCATION:Virtual
DESCRIPTION:Encuentro 2<br />
Se abordarán los principales conceptos de economía circular (Principios, niveles de aplicación, retos y beneficios, elementos centrales y habilitadores, herramientas e indicadores). Luego se propondrá la realización de un autodiagnóstico de las instituciones participantes, con el fin de evaluar cómo se encuentran posicionadas en su accionar en esta temática. <br />

SUMMARY:Grupo de trabajo Economía Circular y ODS
TRANSP:OPAQUE
BEGIN:VALARM
ACTION:DISPLAY
DESCRIPTION:Grupo de trabajo Economía Circular y ODS
END:VALARM
END:VEVENT
END:VCALENDAR
