BEGIN:VCALENDAR
PRODID:-//Red Pacto Global Argentina //NONSGML Events //EN
VERSION:2.0
BEGIN:VEVENT
DTSTAMP:20230824T013202Z
STATUS:CONFIRMED
UID:15594
DTSTART:20230921T093000
DTEND:20230921T113000
LOCATION:Virtual
DESCRIPTION:Encuentro 4 <br />
Se abordarán los impactos ambientales de las organizaciones y se trabajará con los sistemas de gestión ambiental analizando la importancia, los beneficios para las organizaciones y las fases para la implementación de un Sistema de Gestión Ambiental en las mismas.<br />

SUMMARY:Grupo de trabajo: Economía Circular y ODS
TRANSP:OPAQUE
BEGIN:VALARM
ACTION:DISPLAY
DESCRIPTION:Grupo de trabajo: Economía Circular y ODS
END:VALARM
END:VEVENT
END:VCALENDAR
