BEGIN:VCALENDAR
PRODID:-//Red Pacto Global Argentina //NONSGML Events //EN
VERSION:2.0
BEGIN:VEVENT
DTSTAMP:20230824T011303Z
STATUS:CONFIRMED
UID:15683
DTSTART:20230824T150000
DTEND:20230824T160000
LOCATION:Virtual
DESCRIPTION:La agenda para el segundo semestre 2023 tiene muchas oportunidades para ofrecerte. <br />
Vení a conocerlas y sumate a nuestras próximas propuestas. <br />
<br />
Descubrí todo lo que podemos hacer juntos por la sostenibilidad este año.
SUMMARY:Webinar Conociendo Pacto
TRANSP:OPAQUE
BEGIN:VALARM
ACTION:DISPLAY
DESCRIPTION:Webinar Conociendo Pacto
END:VALARM
END:VEVENT
END:VCALENDAR
