BEGIN:VCALENDAR
PRODID:-//Red Pacto Global Argentina //NONSGML Events //EN
VERSION:2.0
BEGIN:VEVENT
DTSTAMP:20230824T013205Z
STATUS:CONFIRMED
UID:9223
DTSTART:20210318T150000
DTEND:20210318T180000
LOCATION:Actividad virtual 
DESCRIPTION:En el marco de la red de gobiernos por la sostenibilidad corporativa coordinada por la red argentina del Pacto Global, el próximo 18 de marzo se llevará a cabo la primera actividad del año 2021. Se trata de un taller sobre \"Compras Públicas Sostenibles\" para los gestores de organismos públicos, gobiernos provinciales y municipales y otros funcionarios de gobierno con interés en adoptar estos criterios para impulsar la sostenibilidad corporativa. <br />
<br />

SUMMARY:Taller «Compras Públicas Sostenibles»: 18 de marzo de 15 a 18hs
TRANSP:OPAQUE
BEGIN:VALARM
ACTION:DISPLAY
DESCRIPTION:Taller «Compras Públicas Sostenibles»: 18 de marzo de 15 a 18hs
END:VALARM
END:VEVENT
END:VCALENDAR
