BEGIN:VCALENDAR
PRODID:-//Red Pacto Global Argentina //NONSGML Events //EN
VERSION:2.0
BEGIN:VEVENT
DTSTAMP:20230824T012947Z
STATUS:CONFIRMED
UID:9282
DTSTART:20210308T000000
DTEND:20210308T000000
LOCATION:
DESCRIPTION:La igualdad de género es un derecho humano fundamental y una base necesaria para un mundo pacífico, próspero y sostenible. Sin embargo, al ritmo actual de progreso, se necesitarán más de 10 generaciones para cerrar la brecha económica de género. <br />
<br />
El Pacto Global lanza este curso virtual corto de aprendizaje que ayudará a comprender el papel de las empresas en el avance de la igualdad de género y los pasos concretos que todas las empresas pueden tomar para ayudar a acelerar el ritmo del cambio. 
SUMMARY:Igualdad de Género: cómo las empresas pueden acelerar el ritmo del cambio
TRANSP:OPAQUE
BEGIN:VALARM
ACTION:DISPLAY
DESCRIPTION:Igualdad de Género: cómo las empresas pueden acelerar el ritmo del cambio
END:VALARM
END:VEVENT
END:VCALENDAR
