BEGIN:VCALENDAR
PRODID:-//Red Pacto Global Argentina //NONSGML Events //EN
VERSION:2.0
BEGIN:VEVENT
DTSTAMP:20230824T012710Z
STATUS:CONFIRMED
UID:9301
DTSTART:20210322T150000
DTEND:20210322T160000
LOCATION:Actividad virtual 
DESCRIPTION:El próximo lunes 22 de marzo de 15 a 16 hs, Pacto Global Argentina hará una presentación sobre la propuesta de valor 2021 para sus miembros empresariales y no empresariales. El webinar contará con la participación de 2 líderes empresariales: Sergio Afronti (CEO de YPF y Presidente de Pacto Global Argentina) y Andrea Avila (CEO de Randstad y Vice presidente de Pacto Global Argentina). <br />
<br />
<br />

SUMMARY:22 de marzo | Propuesta de valor 2021: una conversación con líderes empresariales
TRANSP:OPAQUE
BEGIN:VALARM
ACTION:DISPLAY
DESCRIPTION:22 de marzo | Propuesta de valor 2021: una conversación con líderes empresariales
END:VALARM
END:VEVENT
END:VCALENDAR
