BEGIN:VCALENDAR
PRODID:-//Red Pacto Global Argentina //NONSGML Events //EN
VERSION:2.0
BEGIN:VEVENT
DTSTAMP:20230824T012740Z
STATUS:CONFIRMED
UID:9368
DTSTART:20210413T103000
DTEND:20210413T120000
LOCATION:Actividad virtual 
DESCRIPTION:Encuentro exclusivo para los participantes del Grupo de Trabajo de Economía Circular. Los temas a tratar serán: <br />
1. definición de Economía Circular<br />
2. presentación de la hoja de ruta –publicación-<br />
3. bases de la EC: los principios, los posibilitadores, las actividades y los modelos de negocios.<br />
<br />
Se analizará el caso de Ananás Anam<br />
<br />
Más información, puede escribir a: flavio.fuertes@undp.org o al Coordinador del Grupo: mag@sustentabilidad.org.ar 
SUMMARY:13 de abril | Introducción a la Economía Circular
TRANSP:OPAQUE
BEGIN:VALARM
ACTION:DISPLAY
DESCRIPTION:13 de abril | Introducción a la Economía Circular
END:VALARM
END:VEVENT
END:VCALENDAR
