BEGIN:VCALENDAR
PRODID:-//Red Pacto Global Argentina //NONSGML Events //EN
VERSION:2.0
BEGIN:VEVENT
DTSTAMP:20230824T013039Z
STATUS:CONFIRMED
UID:9370
DTSTART:20210511T103000
DTEND:20210511T120000
LOCATION:Actividad virtual 
DESCRIPTION:Encuentro exclusivo para los participantes del Grupo de Trabajo de Economía Circular. <br />
<br />
Los plásticos se han convertido en un problema: están presentes en nuestro consumo diario de alimentos, en los océanos, mares y ríos y se convierten en un desperdicio inexplicable. La EC puede aportar soluciones a este desafío como alternativa a los plásticos empleados en el packaging por ejemplo. Se analizarás las diferentes alternativas y se tomará en cuenta el caso de Better Future Factory.<br />
<br />
Más información, puede escribir a: flavio.fuertes@undp.org o al Coordinador del Grupo: mag@sustentabilidad.org.ar
SUMMARY:11 de mayo | La Economía Circular en los plásticos
TRANSP:OPAQUE
BEGIN:VALARM
ACTION:DISPLAY
DESCRIPTION:11 de mayo | La Economía Circular en los plásticos
END:VALARM
END:VEVENT
END:VCALENDAR
