BEGIN:VCALENDAR
PRODID:-//Red Pacto Global Argentina //NONSGML Events //EN
VERSION:2.0
BEGIN:VEVENT
DTSTAMP:20230824T013000Z
STATUS:CONFIRMED
UID:9372
DTSTART:20210615T103000
DTEND:20210615T120000
LOCATION:Actividad virtual 
DESCRIPTION:Encuentro exclusivo para los participantes del Grupo de Trabajo de Economía Circular.<br />
<br />
Mediante los casos ”Donar” y “Madera plástica\" (de Mendoza) se analizará cuáles son las barreras y oportunidades de la economía circular en el marco de la sostenibilidad. Además se retomará el análisis bajo el concepto de creación de valor sostenible. <br />
<br />
Más información, puede escribir a: flavio.fuertes@undp.org o al Coordinador del Grupo: mag@sustentabilidad.org.ar
SUMMARY:15 de junio | La Economía circular y los plásticos (2da parte)
TRANSP:OPAQUE
BEGIN:VALARM
ACTION:DISPLAY
DESCRIPTION:15 de junio | La Economía circular y los plásticos (2da parte)
END:VALARM
END:VEVENT
END:VCALENDAR
