BEGIN:VCALENDAR
PRODID:-//Red Pacto Global Argentina //NONSGML Events //EN
VERSION:2.0
BEGIN:VEVENT
DTSTAMP:20230824T013422Z
STATUS:CONFIRMED
UID:9374
DTSTART:20210720T103000
DTEND:20210720T120000
LOCATION:Actividad virtual 
DESCRIPTION:Encuentro exclusivo para los participantes del Grupo de Trabajo de Economía Circular.<br />
<br />
La integración de la economía circular en el modelo del negocio es un desafío. Muchas empresas comienzan aplicando modelos de EC a determinados productos o procesos pero su modelo de negocios permanece inalterado.  El desafío es, entonces, pasar de un esquema de EC marginal a central e introducir cambios en la manera en que llevan adelante los negocios. Mediante los casos “Latu” y “Serrano S.A.” (de La Rioja) se analizará el enfoque de gestión integral, la importancia de la construcción de alianzas y del cambio cultural. <br />
<br />
Más información, puede escribir a: flavio.fuertes@undp.org o al Coordinador del Grupo: mag@sustentabilidad.org.ar
SUMMARY:20 de julio | Un enfoque integral de la Economía Circular
TRANSP:OPAQUE
BEGIN:VALARM
ACTION:DISPLAY
DESCRIPTION:20 de julio | Un enfoque integral de la Economía Circular
END:VALARM
END:VEVENT
END:VCALENDAR
