BEGIN:VCALENDAR
PRODID:-//Red Pacto Global Argentina //NONSGML Events //EN
VERSION:2.0
BEGIN:VEVENT
DTSTAMP:20230824T013044Z
STATUS:CONFIRMED
UID:9376
DTSTART:20210810T103000
DTEND:20210810T120000
LOCATION:Actividad virtual 
DESCRIPTION:Encuentro exclusivo para los participantes del Grupo de Trabajo de Economía Circular.<br />
<br />
Los residuos post-industriales representan otro desafío para las empresas responsables a lo largo de toda su cadena de valor. ¿Puede una empresa desentenderse de sus desechos? ¿hasta dónde llega la responsabilidad del productor? En esta jornada se analizarán los casos “Pulpo / Paul Pak” a través del modelo de Porter sobre “cadena de valor”.<br />
<br />
Más información, puede escribir a: flavio.fuertes@undp.org o al Coordinador del Grupo: mag@sustentabilidad.org.ar
SUMMARY:10 de agosto | La Economía circular y los residuos post-industriales
TRANSP:OPAQUE
BEGIN:VALARM
ACTION:DISPLAY
DESCRIPTION:10 de agosto | La Economía circular y los residuos post-industriales
END:VALARM
END:VEVENT
END:VCALENDAR
