BEGIN:VCALENDAR
PRODID:-//Red Pacto Global Argentina //NONSGML Events //EN
VERSION:2.0
BEGIN:VEVENT
DTSTAMP:20230824T013019Z
STATUS:CONFIRMED
UID:9378
DTSTART:20211005T103000
DTEND:20211005T120000
LOCATION:Actividad virtual 
DESCRIPTION:Encuentro exclusivo para los participantes del Grupo de Trabajo de Economía Circular.<br />
<br />
Se abordará la Economía Circular como una oportunidad en innovación y disrupción. Se analizará el caso “Neptuno Pumps” y se abordarán también a modo de cierre los temas de las jornadas anteriores<br />
<br />
Más información, puede escribir a: flavio.fuertes@undp.org o al Coordinador del Grupo: mag@sustentabilidad.org.ar
SUMMARY:5 de octubre | La Economía circular en productos no convencionales
TRANSP:OPAQUE
BEGIN:VALARM
ACTION:DISPLAY
DESCRIPTION:5 de octubre | La Economía circular en productos no convencionales
END:VALARM
END:VEVENT
END:VCALENDAR
