BEGIN:VCALENDAR
PRODID:-//Red Pacto Global Argentina //NONSGML Events //EN
VERSION:2.0
BEGIN:VEVENT
DTSTAMP:20230824T012927Z
STATUS:CONFIRMED
UID:9425
DTSTART:20210420T110000
DTEND:20210420T120000
LOCATION:Zoom
DESCRIPTION:La Red Argentina del Pacto Global anuncia que 16 empresas integrarán el Grupo de Trabajo “DDHH y Empresas”, que en 2021 tendrá como enfoque al proceso de debida diligencia. <br />
<br />

SUMMARY:16 empresas forman parte de la edición 2021 del  Grupo de Trabajo “DDHH y Empresas”
TRANSP:OPAQUE
BEGIN:VALARM
ACTION:DISPLAY
DESCRIPTION:16 empresas forman parte de la edición 2021 del  Grupo de Trabajo “DDHH y Empresas”
END:VALARM
END:VEVENT
END:VCALENDAR
