BEGIN:VCALENDAR
PRODID:-//Red Pacto Global Argentina //NONSGML Events //EN
VERSION:2.0
BEGIN:VEVENT
DTSTAMP:20230824T013243Z
STATUS:CONFIRMED
UID:9584
DTSTART:20210512T110000
DTEND:20210520T120000
LOCATION:
DESCRIPTION:Antonio Guterres, Secretario General de Naciones Unidas ha afirmado que “esta crisis sanitaria, es una crisis económica, una crisis social, y se está convirtiendo en una crisis de derechos humanos. Al respetar los derechos humanos en este momento de crisis, construiremos soluciones más efectivas e inclusivas para la emergencia de hoy y la recuperación de mañana.”<br />
Existen derechos fundamentales que se han visto afectados en la pandemia como el derecho a la vida, a la salud, a la libre circulación, al trabajo decente y a la privacidad, entre otros.<br />
Esta crisis refuerza la desigualdad estructural y afecta con más fuerza a los grupos vulnerables. Por eso hay que colocar a las personas, y en especial a estos grupos, en el centro de la respuesta.<br />
El objetivo de este encuentro es aportar directrices, recomendaciones y experiencias prácticas al sector privado, para que éstas puedan desarrollar una gestión proactiva de la pandemia que incorpore el enfoque de derechos.<br />
 
SUMMARY:20 de mayo  | Webinar: Empresas y Covid-19: gestionando la crisis sanitaria con enfoque de derechos
TRANSP:OPAQUE
BEGIN:VALARM
ACTION:DISPLAY
DESCRIPTION:20 de mayo  | Webinar: Empresas y Covid-19: gestionando la crisis sanitaria con enfoque de derechos
END:VALARM
END:VEVENT
END:VCALENDAR
