BEGIN:VCALENDAR
PRODID:-//Red Pacto Global Argentina //NONSGML Events //EN
VERSION:2.0
BEGIN:VEVENT
DTSTAMP:20230824T012718Z
STATUS:CONFIRMED
UID:9631
DTSTART:20210603T150000
DTEND:20210603T163000
LOCATION:Encuentro virtual
DESCRIPTION:Encuentro exclusivo para los participantes del Grupo de Trabajo de \"Cuidando el Clima\".
SUMMARY:3 de junio | Grupo de Trabajo Cuidando el Clima: «Contribuciones Nacionales: estado actual de compromiso nacional – Rodrigo Rodriguez Tornquist»
TRANSP:OPAQUE
BEGIN:VALARM
ACTION:DISPLAY
DESCRIPTION:3 de junio | Grupo de Trabajo Cuidando el Clima: «Contribuciones Nacionales: estado actual de compromiso nacional – Rodrigo Rodriguez Tornquist»
END:VALARM
END:VEVENT
END:VCALENDAR
