BEGIN:VCALENDAR
PRODID:-//Red Pacto Global Argentina //NONSGML Events //EN
VERSION:2.0
BEGIN:VEVENT
DTSTAMP:20230824T013330Z
STATUS:CONFIRMED
UID:9634
DTSTART:20210701T150000
DTEND:20210701T163000
LOCATION:Actividad virtual
DESCRIPTION:Encuentro exclusivo para los participantes del Grupo de Trabajo de \"Cuidando el Clima\".
SUMMARY:1 de julio | Grupo de Trabajo Cuidando el Clima: «Objetivos basados en la ciencia y Carbono neutralidad (Parte I)».
TRANSP:OPAQUE
BEGIN:VALARM
ACTION:DISPLAY
DESCRIPTION:1 de julio | Grupo de Trabajo Cuidando el Clima: «Objetivos basados en la ciencia y Carbono neutralidad (Parte I)».
END:VALARM
END:VEVENT
END:VCALENDAR
