BEGIN:VCALENDAR
PRODID:-//Red Pacto Global Argentina //NONSGML Events //EN
VERSION:2.0
BEGIN:VEVENT
DTSTAMP:20230824T013317Z
STATUS:CONFIRMED
UID:9639
DTSTART:20210805T150000
DTEND:20210805T163000
LOCATION:Actividad virtual
DESCRIPTION:Encuentro exclusivo para los participantes del Grupo de Trabajo de \"Empresas y derechos humanos\".<br />

SUMMARY:5 de agosto | Grupo de Trabajo Cuidando el Clima: «Objetivos basados en la ciencia y Carbono neutralidad (Parte II)».
TRANSP:OPAQUE
BEGIN:VALARM
ACTION:DISPLAY
DESCRIPTION:5 de agosto | Grupo de Trabajo Cuidando el Clima: «Objetivos basados en la ciencia y Carbono neutralidad (Parte II)».
END:VALARM
END:VEVENT
END:VCALENDAR
