BEGIN:VCALENDAR
PRODID:-//Red Pacto Global Argentina //NONSGML Events //EN
VERSION:2.0
BEGIN:VEVENT
DTSTAMP:20230824T013058Z
STATUS:CONFIRMED
UID:9644
DTSTART:20210909T150000
DTEND:20210909T163000
LOCATION:Evento virtual
DESCRIPTION:Encuentro exclusivo para los participantes del Grupo de Trabajo de \"Cuidando el Clima\".
SUMMARY:9 de septiembre | Grupo de Trabajo Cuidando el Clima: «Objetivos basados en la ciencia (Parte III)».
TRANSP:OPAQUE
BEGIN:VALARM
ACTION:DISPLAY
DESCRIPTION:9 de septiembre | Grupo de Trabajo Cuidando el Clima: «Objetivos basados en la ciencia (Parte III)».
END:VALARM
END:VEVENT
END:VCALENDAR
