BEGIN:VCALENDAR
PRODID:-//Red Pacto Global Argentina //NONSGML Events //EN
VERSION:2.0
BEGIN:VEVENT
DTSTAMP:20230824T012928Z
STATUS:CONFIRMED
UID:9654
DTSTART:20211021T150000
DTEND:20211021T163000
LOCATION:Evento virtual
DESCRIPTION:Encuentro exclusivo para los participantes del Grupo de Trabajo de \"Cuidando el Clima\".
SUMMARY:21 de octubre | Grupo de Trabajo Cuidando el Clima: «Objetivos basados en la ciencia (Parte IV)».
TRANSP:OPAQUE
BEGIN:VALARM
ACTION:DISPLAY
DESCRIPTION:21 de octubre | Grupo de Trabajo Cuidando el Clima: «Objetivos basados en la ciencia (Parte IV)».
END:VALARM
END:VEVENT
END:VCALENDAR
