BEGIN:VCALENDAR
PRODID:-//Red Pacto Global Argentina //NONSGML Events //EN
VERSION:2.0
BEGIN:VEVENT
DTSTAMP:20230824T013410Z
STATUS:CONFIRMED
UID:9657
DTSTART:20211209T150000
DTEND:20211209T163000
LOCATION:Evento virtual
DESCRIPTION:Encuentro exclusivo para los participantes del Grupo de Trabajo de \"Cuidando el Clima\".
SUMMARY:Grupo de Trabajo Cuidando el Clima: «Resultados de la Cumbre de Glasgow».
TRANSP:OPAQUE
BEGIN:VALARM
ACTION:DISPLAY
DESCRIPTION:Grupo de Trabajo Cuidando el Clima: «Resultados de la Cumbre de Glasgow».
END:VALARM
END:VEVENT
END:VCALENDAR
