BEGIN:VCALENDAR
PRODID:-//Red Pacto Global Argentina //NONSGML Events //EN
VERSION:2.0
BEGIN:VEVENT
DTSTAMP:20230824T013354Z
STATUS:CONFIRMED
UID:9720
DTSTART:20210615T080000
DTEND:20210616T230000
LOCATION:
DESCRIPTION:El Leaders Summit del UN Global Compact cada año reúne a más de mil representantes de todo el mundo, de empresas, gobiernos, universidades y sociedad civil, para tomar acciones frente a los Objetivos de Desarrollo Sostenible (ODS). Este año, se realizará de manera virtual y tendrá como objetivo discutir la crisis generada por la pandemia de la Covid-19, el cambio climático, los impactos negativos a nivel social y económico, el aumento de la corrupción, y ofrecer una hoja de ruta para una recuperación sostenible.<br />
<br />
<br />
<br />

SUMMARY:15 y 16 de Junio | ¡Únete al Leaders Summit, el evento de sostenibilidad más importante del mundo!
TRANSP:OPAQUE
BEGIN:VALARM
ACTION:DISPLAY
DESCRIPTION:15 y 16 de Junio | ¡Únete al Leaders Summit\, el evento de sostenibilidad más importante del mundo!
END:VALARM
END:VEVENT
END:VCALENDAR
