BEGIN:VCALENDAR
PRODID:-//Red Pacto Global Argentina //NONSGML Events //EN
VERSION:2.0
BEGIN:VEVENT
DTSTAMP:20230824T012917Z
STATUS:CONFIRMED
UID:9805
DTSTART:20210629T100000
DTEND:20210629T110000
LOCATION:
DESCRIPTION:El 2do taller del grupo de trabajo «Transporte Sustentable» se realizará el 29 de junio de 10 a 11 hs.<br />
Pacto Global Argentina y Scania Argentina re-lanzaron, el 4 de mayo, el grupo de trabajo «Transporte Sustentable» del que participaron 15 organizaciones.<br />
Este grupo inició sus actividades en 2020 y tiene previsto realizar al menos 1 encuentros más en 2021 (23 de septiembre).<br />

SUMMARY:Segundo taller del grupo de trabajo «Transporte Sustentable»
TRANSP:OPAQUE
BEGIN:VALARM
ACTION:DISPLAY
DESCRIPTION:Segundo taller del grupo de trabajo «Transporte Sustentable»
END:VALARM
END:VEVENT
END:VCALENDAR
