BEGIN:VCALENDAR
PRODID:-//Red Pacto Global Argentina //NONSGML Events //EN
VERSION:2.0
BEGIN:VEVENT
DTSTAMP:20230824T012818Z
STATUS:CONFIRMED
UID:9807
DTSTART:20210923T100000
DTEND:20210923T110000
LOCATION:
DESCRIPTION:El 3er taller del grupo de trabajo «Transporte Sustentable» se realizará el 23 de septiembre de 10 a 11 hs.<br />
Pacto Global Argentina y Scania Argentina re-lanzaron, el 4 de mayo, el grupo de trabajo «Transporte Sustentable» del que participaron 15 organizaciones.<br />
Este grupo inició sus actividades en 2020 y en 2021 se preveen 3 reuniones.
SUMMARY:Tercer taller del grupo de trabajo «Transporte Sustentable»
TRANSP:OPAQUE
BEGIN:VALARM
ACTION:DISPLAY
DESCRIPTION:Tercer taller del grupo de trabajo «Transporte Sustentable»
END:VALARM
END:VEVENT
END:VCALENDAR
