BEGIN:VCALENDAR
PRODID:-//Red Pacto Global Argentina //NONSGML Events //EN
VERSION:2.0
BEGIN:VEVENT
DTSTAMP:20230824T012735Z
STATUS:CONFIRMED
UID:9843
DTSTART:20210701T100000
DTEND:20210701T110000
LOCATION:virtual
DESCRIPTION:Vení a conocer el Programa \"Pasaporte a la Integridad. Un buen negocio para su empresa\" de la mano de 4 valiosos disertantes: <br />
*Luis Villanueva -Oficina Anticorrupción -, <br />
*Gabriela Russo - Consejo Profesional de Ciencias Económicas de la Ciudad Autónoma de Buenos Aires-, <br />
*Flavio Fuertes - Pacto Global Argentina- y <br />
*Mariana Regueira Corti -AHK Argentina - Cámara de Industria y Comercio Argentino Alemana.<br />
Modera: Marcelo Lopez
SUMMARY:Vení a conocer el Programa Pasaporte a la Integridad – Un buen negocio para tu empresa
TRANSP:OPAQUE
BEGIN:VALARM
ACTION:DISPLAY
DESCRIPTION:Vení a conocer el Programa Pasaporte a la Integridad &#8211\; Un buen negocio para tu empresa
END:VALARM
END:VEVENT
END:VCALENDAR
