BEGIN:VCALENDAR
PRODID:-//Red Pacto Global Argentina //NONSGML Events //EN
VERSION:2.0
BEGIN:VEVENT
DTSTAMP:20230824T012809Z
STATUS:CONFIRMED
UID:9879
DTSTART:20210706T000000
DTEND:20210706T000000
LOCATION:
DESCRIPTION:
SUMMARY:Te invitamos al Workshop «Los beneficios de adherirse al Pacto Global de Naciones Unidas»
TRANSP:OPAQUE
BEGIN:VALARM
ACTION:DISPLAY
DESCRIPTION:Te invitamos al Workshop «Los beneficios de adherirse al Pacto Global de Naciones Unidas»
END:VALARM
END:VEVENT
END:VCALENDAR
