BEGIN:VCALENDAR
PRODID:-//Red Pacto Global Argentina //NONSGML Events //EN
VERSION:2.0
BEGIN:VEVENT
DTSTAMP:20230824T012934Z
STATUS:CONFIRMED
UID:9913
DTSTART:20210708T090000
DTEND:20210708T100000
LOCATION:Virtual
DESCRIPTION:Lanzamiento – Edición 2021  <br />
<br />
Online, 08 de julio – 09:00Hs – 10:00Hs. <br />
<br />
Moderación: Facundo Rodríguez – Departamento de Ética y Compliance de la AHK Argentina 
SUMMARY:8 de julio | Apertura Programa “Pasaporte a la Integridad” 2021
TRANSP:OPAQUE
BEGIN:VALARM
ACTION:DISPLAY
DESCRIPTION:8 de julio | Apertura Programa “Pasaporte a la Integridad” 2021
END:VALARM
END:VEVENT
END:VCALENDAR
