BEGIN:VCALENDAR
PRODID:-//Red Pacto Global Argentina //NONSGML Events //EN
VERSION:2.0
BEGIN:VEVENT
DTSTAMP:20230824T012923Z
STATUS:CONFIRMED
UID:9973
DTSTART:20210812T100000
DTEND:20210812T110000
LOCATION:Virtual
DESCRIPTION:
SUMMARY:12 de agosto | Gestión de riesgos e impactos de proveedores en mi cadena de valor
TRANSP:OPAQUE
BEGIN:VALARM
ACTION:DISPLAY
DESCRIPTION:12 de agosto | Gestión de riesgos e impactos de proveedores en mi cadena de valor
END:VALARM
END:VEVENT
END:VCALENDAR
