BEGIN:VCALENDAR
PRODID:-//Red Pacto Global Argentina //NONSGML Events //EN
VERSION:2.0
BEGIN:VEVENT
DTSTAMP:20230824T012930Z
STATUS:CONFIRMED
UID:9985
DTSTART:20210831T100000
DTEND:20210831T120000
LOCATION:
DESCRIPTION:Gestión de riesgos e impactos de proveedores en mi cadena de valor: Capacidad interna  para su gestión.  <br />

SUMMARY:31 de agosto | Primer Encuentro del Grupo de Trabajo «Sostenibilidad en la Cadena de Valor»
TRANSP:OPAQUE
BEGIN:VALARM
ACTION:DISPLAY
DESCRIPTION:31 de agosto | Primer Encuentro del Grupo de Trabajo «Sostenibilidad en la Cadena de Valor»
END:VALARM
END:VEVENT
END:VCALENDAR
