BEGIN:VCALENDAR
PRODID:-//Red Pacto Global Argentina //NONSGML Events //EN
VERSION:2.0
BEGIN:VEVENT
DTSTAMP:20230824T013013Z
STATUS:CONFIRMED
UID:9988
DTSTART:20210909T100000
DTEND:20210909T110000
LOCATION:
DESCRIPTION:Desarrollo proveedores: oportunidad de la cadena de valor <br />

SUMMARY:9 de septiembre | Segundo Webinar del Grupo de Trabajo «Sostenibilidad en la Cadena de Valor»
TRANSP:OPAQUE
BEGIN:VALARM
ACTION:DISPLAY
DESCRIPTION:9 de septiembre | Segundo Webinar del Grupo de Trabajo «Sostenibilidad en la Cadena de Valor»
END:VALARM
END:VEVENT
END:VCALENDAR
