BEGIN:VCALENDAR
PRODID:-//Red Pacto Global Argentina //NONSGML Events //EN
VERSION:2.0
BEGIN:VEVENT
DTSTAMP:20230824T012745Z
STATUS:CONFIRMED
UID:9992
DTSTART:20210928T100000
DTEND:20210928T120000
LOCATION:Virtual
DESCRIPTION:Gestión de riesgos e impactos de proveedores en mi cadena de valor: Herramientas para fortalecer el control de riesgos e impactos en la cadena de valor.
SUMMARY:28 de septiembre | Segundo Encuentro del Grupo Sostenibilidad en la Cadena de Valor
TRANSP:OPAQUE
BEGIN:VALARM
ACTION:DISPLAY
DESCRIPTION:28 de septiembre | Segundo Encuentro del Grupo Sostenibilidad en la Cadena de Valor
END:VALARM
END:VEVENT
END:VCALENDAR
