BEGIN:VCALENDAR
PRODID:-//Red Pacto Global Argentina //NONSGML Events //EN
VERSION:2.0
BEGIN:VEVENT
DTSTAMP:20230824T013022Z
STATUS:CONFIRMED
UID:9994
DTSTART:20211014T100000
DTEND:20211014T110000
LOCATION:Virtual
DESCRIPTION:\"Gestión de oportunidades e impactos en mi cadena de valor: Las compras & contrataciones inclusivas y sostenible.\"<br />
<br />
<br />
<br />

SUMMARY:14 de octubre | Tercer Webinar del Grupo de Trabajo «Sostenibilidad en la Cadena de Valor»
TRANSP:OPAQUE
BEGIN:VALARM
ACTION:DISPLAY
DESCRIPTION:14 de octubre | Tercer Webinar del Grupo de Trabajo «Sostenibilidad en la Cadena de Valor»
END:VALARM
END:VEVENT
END:VCALENDAR
