BEGIN:VCALENDAR
PRODID:-//Red Pacto Global Argentina //NONSGML Events //EN
VERSION:2.0
BEGIN:VEVENT
DTSTAMP:20230824T013142Z
STATUS:CONFIRMED
UID:9997
DTSTART:20211026T100000
DTEND:20211026T120000
LOCATION:Virtual
DESCRIPTION:Gestión de oportunidades: “Valor por dinero” y las oportunidades en la compra.<br />

SUMMARY:26 de octubre | Tercer Encuentro del Grupo Sostenibilidad en la Cadena de Valor
TRANSP:OPAQUE
BEGIN:VALARM
ACTION:DISPLAY
DESCRIPTION:26 de octubre | Tercer Encuentro del Grupo Sostenibilidad en la Cadena de Valor
END:VALARM
END:VEVENT
END:VCALENDAR
