BEGIN:VCALENDAR
PRODID:-//Red Pacto Global Argentina //NONSGML Events //EN
VERSION:2.0
BEGIN:VEVENT
DTSTAMP:20230824T010359Z
STATUS:CONFIRMED
UID:15592
DTSTART:20230907T093000
DTEND:20230907T113000
LOCATION:Virtual
DESCRIPTION:Encuentro 3<br />
Se abordará el cálculo de huella de carbono retomando los conceptos de cambio climático y límites planetarios del encuentro 1. Se trabajará con el concepto, los alcances, las metodologías y procedimientos de cálculo y las compensaciones. Se abordará esta temática en forma teórica y práctica
SUMMARY:Grupo de trabajo: Economía Circular y ODS
TRANSP:OPAQUE
BEGIN:VALARM
ACTION:DISPLAY
DESCRIPTION:Grupo de trabajo: Economía Circular y ODS
END:VALARM
END:VEVENT
END:VCALENDAR
