BEGIN:VCALENDAR
PRODID:-//Red Pacto Global Argentina //NONSGML Events //EN
VERSION:2.0
BEGIN:VEVENT
DTSTAMP:20230824T010403Z
STATUS:CONFIRMED
UID:15596
DTSTART:20231005T093000
DTEND:20231005T113000
LOCATION:Virtual
DESCRIPTION:Encuentro 5 <br />
Se planteará la importancia de diseñar un Plan estratégico de sostenibilidad. Trabajando con análisis de materialidad para conocer las expectativas de los stakeholders y se analizarán Indicadores comunes de ODS y Economía Circular. <br />

SUMMARY:Grupo de trabajo Economía Circular y ODS
TRANSP:OPAQUE
BEGIN:VALARM
ACTION:DISPLAY
DESCRIPTION:Grupo de trabajo Economía Circular y ODS
END:VALARM
END:VEVENT
END:VCALENDAR
