BEGIN:VCALENDAR
PRODID:-//Red Pacto Global Argentina //NONSGML Events //EN
VERSION:2.0
BEGIN:VEVENT
DTSTAMP:20230824T005844Z
STATUS:CONFIRMED
UID:15692
DTSTART:20230825T100000
DTEND:20230825T120000
LOCATION:Presencial
DESCRIPTION:TE ESPERAMOS EN EL EVENTO DE PRESENTACIÓN DEL EBOOK: INTEGRIDAD SOSTENIBLE <br />
Encontrarse es una de las cosas más enriquecedoras del ser humano. Sobretodo cuando el encuentro es para conocer y celebrar una producción que no sólo da cuenta de mucho trabajo, si no que recopila herramientas y recomendaciones para llevar adelante programas de Integridad Sostenible.<br />
<br />
¡Queremos compartir con vos esta nueva publicación y seguir enriqueciendo y acompañando a las organizaciones en un tema tan importante!
SUMMARY:Presentación E-Book Integridad Sostenible
TRANSP:OPAQUE
BEGIN:VALARM
ACTION:DISPLAY
DESCRIPTION:Presentación E-Book Integridad Sostenible
END:VALARM
END:VEVENT
END:VCALENDAR
