BEGIN:VCALENDAR
PRODID:-//Red Pacto Global Argentina //NONSGML Events //EN
VERSION:2.0
BEGIN:VEVENT
DTSTAMP:20230824T005842Z
STATUS:CONFIRMED
UID:15697
DTSTART:20230905T120000
DTEND:20230905T130000
LOCATION:Virtual
DESCRIPTION:La crisis climática que enfrentamos requiere que las empresas asuman un papel activo en la implementación de medidas de mitigación y adaptación al cambio climático. La capacidad de anticipar y responder a los desafíos ambientales no solo es crucial para la supervivencia de nuestras organizaciones, sino que también contribuye al bienestar de las comunidades y al equilibrio de nuestro planeta.<br />
 <br />
No te pierdas la sesión virtual \"Hacia un Futuro Sostenible: Integrando Medidas de Adaptación al Cambio Climático en la Estrategia Empresarial\", organizado por las Redes de Latinoamérica de Pacto Mundial.<br />
<br />
Escucha la participación de expertos y expertas quienes proporcionarán una visión general de las medidas de adaptación al cambio climático, así como los beneficios sociales, económicos y ambientales de incorporarlas en las estrategias de negocio empresariales y ejemplos de empresas líderes que han logrado implementarlas con éxito.<br />

SUMMARY:Webinar Hacia un futuro sostenible: Integrando medidas de adaptación al cambio climático en la estrategia empresarial
TRANSP:OPAQUE
BEGIN:VALARM
ACTION:DISPLAY
DESCRIPTION:Webinar Hacia un futuro sostenible: Integrando medidas de adaptación al cambio climático en la estrategia empresarial
END:VALARM
END:VEVENT
END:VCALENDAR
